BEGIN:VCALENDAR
VERSION:2.0
PRODID:-//DS Séminaires - ECPv6.15.17//NONSGML v1.0//EN
CALSCALE:GREGORIAN
METHOD:PUBLISH
X-WR-CALNAME:DS Séminaires
X-ORIGINAL-URL:https://ds-seminaires.com
X-WR-CALDESC:Évènements pour DS Séminaires
REFRESH-INTERVAL;VALUE=DURATION:PT1H
X-Robots-Tag:noindex
X-PUBLISHED-TTL:PT1H
BEGIN:VTIMEZONE
TZID:Europe/Zurich
BEGIN:DAYLIGHT
TZOFFSETFROM:+0100
TZOFFSETTO:+0200
TZNAME:CEST
DTSTART:20250330T010000
END:DAYLIGHT
BEGIN:STANDARD
TZOFFSETFROM:+0200
TZOFFSETTO:+0100
TZNAME:CET
DTSTART:20251026T010000
END:STANDARD
BEGIN:DAYLIGHT
TZOFFSETFROM:+0100
TZOFFSETTO:+0200
TZNAME:CEST
DTSTART:20260329T010000
END:DAYLIGHT
BEGIN:STANDARD
TZOFFSETFROM:+0200
TZOFFSETTO:+0100
TZNAME:CET
DTSTART:20261025T010000
END:STANDARD
BEGIN:DAYLIGHT
TZOFFSETFROM:+0100
TZOFFSETTO:+0200
TZNAME:CEST
DTSTART:20270328T010000
END:DAYLIGHT
BEGIN:STANDARD
TZOFFSETFROM:+0200
TZOFFSETTO:+0100
TZNAME:CET
DTSTART:20271031T010000
END:STANDARD
END:VTIMEZONE
BEGIN:VEVENT
DTSTART;TZID=Europe/Zurich:20260509T100000
DTEND;TZID=Europe/Zurich:20260509T170000
DTSTAMP:20260421T140451
CREATED:20260224T172435Z
LAST-MODIFIED:20260224T172441Z
UID:32739-1778320800-1778346000@ds-seminaires.com
SUMMARY:Cercle Féminin sacré
DESCRIPTION:Cercle\nFéminin sacré \n\n  \nSamedi 9 mai 2026\, 10h – 17h\n \n*   *   * \nManuela Laubscher et Odile Meury \n			\n			\n				\n				\n				\n				\n			\n				\n				\n				\n				\n				\n				\n			\n				\n				\n				\n				\n				\n				\n				\n				\n				\n				\nFéminin sacré\, en chemin vers l’intuition\n\nLe Féminin sacré est une force originelle\, une énergie qui traverse le monde visible et invisible. Il ne se limite pas à la femme ou à la féminité biologique : il incarne l’intuition\, la création\, la sensibilité et la puissance du cœur. \nRedécouvrir le Féminin sacré\, c’est renouer avec une sagesse oubliée et apprendre à écouter votre voix intérieure plutôt que votre seule raison. Sous la conduite de Manuela et d’Odile\, entourées d’autres femmes en chemin\, vous allez contacter la douceur autant que la force\, la coopération autant que la conquête. \nL’importance du rythme naturel\nDans un monde depuis longtemps dominé par un modèle masculin centré sur le contrôle et la performance\, le Féminin sacré rappelle l’importance du rythme naturel. Il renvoie au soin\, au lien et à l’accueil. Il invite à réconcilier l’être humain avec la Terre\, à retrouver l’équilibre entre donner et recevoir. \nLes gestes du quotidien prennent une autre dimension : l’attention portée à soi\, à autrui\, à la beauté du monde deviennent une attitude naturelle.  Celle qui inspire la créativité\, la guérison et la compassion. Honorer le Féminin sacré\, c’est aussi restaurer en soi le respect du corps\, du cycle\, de la nature\, sans honte ni domination. C’est un chemin intérieur vers l’unité : car le Féminin et le Masculin sacré ne s’opposent pas\, ils se complètent. \nVivre\, c’est être en relation\n Le Féminin sacré nous apprend que toute vie est relation. Manuela et Odile\, en le réveillant en vous\, vous invitent à ressentir le dialogue entre les parts d’ombre et de lumière qui nous habitent. Et à retrouver le sens du sacré dans nos existences quotidiennes. \n  \n\n			\n				\n				\n				\n				\n				\nPrix et inscription\n  \nPlaces limitées\nCHF 175.-\, à payer cash sur place. \nManuela : 079 403 03 06\nOdile : 079 356 99 25  \n\n  \n\n			\n			\n				\n				\n				\n				\n				\n			\n				\n				\n				\n				\n			\n				\n				\n				\n				\n				\n				\n			\n				\n				\n				\n				\n				\n				\n				\n				\n				\n				A propos de Manuela Laubscher\n			\n				\n				\n				\n				\n				\n			\n				\n				\n				\n				\n				Manuela Laubscher est certifiée en kinésiologie. Après avoir été longtemps active dans le domaine de la santé et des soins\, elle a choisi cette voie plus en accord avec son approche globale de l’être humain. \nElle enseigne le yoga depuis de nombreuses années. Sa belle vitalité et son enthousiasme sont communicatifs. Personnalité rayonnante et chaleureuse\, elle transmet son savoir avec authenticité\, créativité et générosité. \nMieux connaître Manuela Laubscher : \nhttps://kinemanu.ch/ \n                                          \n \n			\n				\n				\n				\n				\n				A propos d’Odile Meury\n			\n				\n				\n				\n				\n				\n			\n				\n				\n				\n				\n				Tout comme Manuela\, Odile Meury est  kinésiologue certifiée. Elle a en outre complété sa formation par de nombreux cours. Ainsi\, elle s’est également investie dans les domaines de l’hypnose\, des soins énergétiques\, des massages et de l’aromathérapie notamment. \nMieux connaître Odile Meury : \nhttps://lesmeury.ch/ \n  \n             \n			\n			\n				\n				\n				\n				\n				\n			\n				\n				\n				\n				\n			\n				\n				\n				\n				\n				\n				\n				\n				\n				\n				\n				A propos du Lieu\n			\n			\n				\n				\n				\n				\n			\n				\n				\n				\n				\n				\n				\n			\n				\n				\n				\n				\n				\n				\n				\n				\n				\n				\n			\n				\n				\n				\n				\n				\n			\n				\n				\n				\n				\n				\n			\n			\n				\n				\n				\n				\n				\n			\n				\n				\n				\n				\n			\n				\n				\n				\n				\n				\n				\n				\n				\n				\n				\n				Le cours est donné à Maison 1902. Cette magnifique demeure est pleine de charme et d’histoire. Elle est située à Tramelan\, en Suisse\, dans le Jura bernois\, au coeur de la région Grand Chasseral\, et à la porte des Franches Montagnes. Dans une ambiance chaleureuse et confortable\, outre ses deux très belles salles de cours\, elle offre un hébergement de grand confort à une vingtaine de personnes. \nhttps://maison1902.ch/  \n  \nAperçu des chambres\n			\n			\n				\n				\n				\n				\n			\n				\n				\n				\n				\n				\n				\n				\n				\n				\n				\n				\n			\n			\n				\n				\n				\n				\n				\n				\n				\n				\n				\n				\n			\n			\n				\n				\n				\n				\n				\n				\n				\n				\n				\n				\n			\n			\n				\n				\n				\n				\n			\n				\n				\n				\n				\n				\n				\n				\n				\n				\n				\n				Maison 1902 – Rue Virgile Rossel 16 –  CH-2720 Tramelan\, Suisse\nEmail : info@maison1902.ch\nTél. : +41 (0)79 777 33 48 (Bernard) ou +41 (0)79 365 44 43 (Béatrice)\nSite internet :https://maison1902.ch \n 
URL:https://ds-seminaires.com/event/cercle-feminin-sacre-tramelan-neuchatel-la-chaux-de-fonds-bienne-www-ds-seminaires-com/
LOCATION:Maison 1902\, rue Virgile Rossel 16\, Tramelan\, 2720\, Suisse
ATTACH;FMTTYPE=image/png:https://ds-seminaires.com/wp-content/uploads/2026/02/Manuela-et-Odile-2926-sans-logo.png
END:VEVENT
BEGIN:VEVENT
DTSTART;TZID=Europe/Zurich:20260522T163000
DTEND;TZID=Europe/Zurich:20260525T160000
DTSTAMP:20260421T140451
CREATED:20250120T142630Z
LAST-MODIFIED:20260213T174850Z
UID:32078-1779467400-1779724800@ds-seminaires.com
SUMMARY:Tantra hommes - L'accueil du masculin sacré
DESCRIPTION:Tantra hommesL’accueil du masculin sacré\n \n du vendredi  22 mai  2026 à 16h30au dimanche 25 mai 2026 à 16h00 \n(Week-end de la Pentecôte)\n  \nVincent Müller\n			\n				\n				\n				\n				\n				\n			\n				\n				\n				\n				\n				Les facettes de la masculinité\nDurant ce stage\, Vincent Müller vous offre l’opportunité de te reconnecter à ton énergie masculine et aux multiples facettes qui la composent. Avoir le courage de se laisser aller à sa vulnérabilité pour véritablement accueillir sa toute puissance masculine. L’occasion aussi de nourrir son identité d’homme\, d’y puiser une énergie permettant de s’ancrer profondément\, pour une union fertile\, créatrice et sereine entre son coeur et son énergie sexuelle. \nAu-delà des peurs\, l’accueil de ton unicité masculine\nTranscender ses peurs pour accueillir vraiment l’homme unique qui ne demande qu’à s’exprimer\, dans un partage et un soutien respectueux et sécurisant du groupe. Et par la même occasion\, réconcilier et pacifier ses lignées d’hommes pour mieux rayonner ton authenticité dans le monde. \nQui sait ? \nCe stage est réservé aux hommes\, débutant ou tantrika expérimenté. En parallèle à ce cours aura lieu un stage de femmes… Et\, qui sait ? Si tant est que les planètes s’alignent\, le masculin et le féminin se rencontreront peut-être dans ce qu’offre de plus beau leur véritable essence. \n  \n  \n			\n			\n				\n				\n				\n				\n			\n				\n				\n				\n				\n				\n				\n			\n				\n				\n				\n				\n				\n				\n				\n				\n				\n				A propos de Vincent\n			\n				\n				\n				\n				\n				\n			\n			\n				\n				\n				\n				\n				\n			\n				\n				\n				\n				\n			\n				\n				\n				\n				\n				\n				\n				\n				\n				\n				\n				Adolescent\, Vincent se consacre à la lecture d’ouvrages de psychologie et suit différents séminaires de sophrologie qu’il pratique avec assiduité.Il comprend rapidement que la dimension de son ressenti corporel lui est indispensable à l’intégration de ce qu’il découvre.C’est ainsi que son chemin le conduit sur la voie du tantra qu’il pratique depuis 10 ans maintenant. \n  \nMieux connaître Vincent : https://aucoeurdutantra.ch/presentation/    \n  \n  \n			\n			\n				\n				\n				\n				\n			\n				\n				\n				\n				\n				\n				\n			\n				\n				\n				\n				\n				\n				\n				\n				\n				\n				A propos du lieu\n			\n				\n				\n				\n				\n				\n			\n				\n				\n				\n				\n				\n			\n				\n				\n				\n				\n				\n			\n			\n				\n				\n				\n				\n				\n			\n				\n				\n				\n				\n			\n				\n				\n				\n				\n				\n				\n				\n				\n				\n				\n				Le cours est donné à Maison 1902. Cette magnifique demeure est pleine de charme et d’histoire. Elle est située à Tramelan\, en Suisse\, dans le Jura bernois\, au coeur de la région Grand Chasseral\, et à la porte des Franches Montagnes. Dans une ambiance chaleureuse et confortable\, outre ses deux très belles salles de cours\, elle offre un hébergement de grand confort à une vingtaine de personnes. \nhttps://maison1902.ch/  \n  \nHoraire\nJeudi 8 mai à 16h30 au dimanche 11 mai 2025 à 16h00. Stage en résidentiel. \n  \nHébergement\n			\n			\n				\n				\n				\n				\n			\n				\n				\n				\n				\n				\n				\n				\n				\n				\n				\n				\n			\n			\n				\n				\n				\n				\n				\n				\n				\n				\n				\n				\n			\n			\n				\n				\n				\n				\n				\n				\n				\n				\n				\n				\n			\n			\n				\n				\n				\n				\n			\n				\n				\n				\n				\n				\n				\n				\n				\n				\n				\n				ison 1902 – Rue Virgile Rossel 16 –  CH-2720 Tramelan\, SuisseEmail : info@maison1902.chTél. : +41 (0)79 777 33 48 (Bernard) ou +41 (0)79 365 44 43 (Béatrice)Site internet :https://maison1902.ch. \n  \nPrix du stage \nCHF 690.- pension complète et hébergement compris. \n  \n\n\nInscriptions\n\n\nDirectement auprès de Vincent Müller\, Au Coeur du Tantra  \nhttps://aucoeurdutantra.ch/project/stage-tantra-hommes/ \n 
URL:https://ds-seminaires.com/event/tantra-hommes-laccueil-du-masculin-sacre-bienne-neuchatel-www-ds-seminaires-com/
LOCATION:Maison 1902\, rue Virgile Rossel 16\, Tramelan\, 2720\, Suisse
ATTACH;FMTTYPE=image/png:https://ds-seminaires.com/wp-content/uploads/2025/01/Tantra-homme-Vincent-Muller.png
END:VEVENT
BEGIN:VEVENT
DTSTART;TZID=Europe/Zurich:20260522T163000
DTEND;TZID=Europe/Zurich:20260525T160000
DTSTAMP:20260421T140451
CREATED:20250121T143718Z
LAST-MODIFIED:20260302T183047Z
UID:32103-1779467400-1779724800@ds-seminaires.com
SUMMARY:La puissance féminine
DESCRIPTION:Cercle de femmesLa puissance féminine\n \n du vendredi 22 mai à 16h30au dimanche 25 mai à 16h \n(week-end de la Pentecôte)\n  \nAurore Müller\,\n accompagnée de Bettina et Célia\n			\n				\n				\n				\n				\n				\n			\n				\n				\n				\n				\n				Puissance féminine\, énergie de vie et d’amour\nCe cercle de femmes de quatre jours que te propose Aurore Müller est un tableau aux multiples tonalités. Quelle femme êtes-tu à chaque instant ? De la vulnérabilité à la puissance\, du rire aux larmes\, de l’indécision à la clarté\, de l’ombre à la lumière\, tu vas rencontrer tes innombrables facettes.  \nUn temps pour t’honorer\nAmie\, amante\, femme sauvage\, mère\, soeur\, collègue ou encore guérisseuse\, toutes ces femmes qui sont toi viendront à ta rencontre dans un temps pour les honorer\, pour t’honorer. Ce week-end est un temps pour toi\, pour l’accueil de tes envies\, ton désir\, ton plaisir\, de ta douceur et de ta féminité dans ce qu’elle a de plus noble et d’authentique. Un temps pour se guérir et guérir ses lignées de femmes. \nSororité et bienveillance\nC’est dans un cocon de bienveillance et de sororité que tu transcenderas tes peurs en amour et en joie de vivre. L’opportunité s’offre à toi de devenir actrice de ta sexualité\, de tes choix de vie.  Au travers de rituels ancestraux\, pleins de prévenance et emplis de la sagesse des femmes qui nous ont précédées sur cette terre\, Aurore\, assistée de Bettina\, te conduiront sur le chemin de ta liberté. Là où tu sauras poser tes limites et être ta lumineuse présence au monde. \nEt\, qui sait ?\nCe stage est réservé à toute femme\, habituée ou non des cercles de femmes.En parallèle de ce cercle de femmes\, aura lieu un stage hommes avec peut-être quelques surprises et – qui sait ? – la rencontre du féminin et du masculin sacrés dans ce qu’offre de plus beau leur véritable essence.  \n  \n  \n			\n			\n				\n				\n				\n				\n			\n				\n				\n				\n				\n				\n				\n			\n				\n				\n				\n				\n				\n				\n				\n				\n				\n				A propos d’Aurore\n			\n				\n				\n				\n				\n				\n			\n			\n				\n				\n				\n				\n				\n			\n				\n				\n				\n				\n			\n				\n				\n				\n				\n				\n				\n				\n				\n				\n				\n				Aurore pratique le tantra depuis plus de 15 ans maintenant. Tout a commencé lors de sa première relation amoureuse\, alors qu’elle croyait profondément au prince charmant.Pour mieux comprendre ce qui se jouait dans sa vie\, elle suit ensuite différente formations. Celles-ci la confortent dans le ressenti de ses émotions et de son corps et dans son envie de transmettre. \nMieux connaître Aurore : https://aucoeurdutantra.ch//presentation \n \n \n  \n			\n			\n				\n				\n				\n				\n			\n				\n				\n				\n				\n				\n				\n			\n				\n				\n				\n				\n				\n				\n				\n				\n				\n				A propos du lieu\n			\n				\n				\n				\n				\n				\n			\n				\n				\n				\n				\n				\n			\n				\n				\n				\n				\n				\n			\n			\n				\n				\n				\n				\n				\n			\n				\n				\n				\n				\n			\n				\n				\n				\n				\n				\n				\n				\n				\n				\n				\n				Le cours est donné à Maison 1902. Cette magnifique demeure est pleine de charme et d’histoire. Elle est située à Tramelan\, en Suisse\, dans le Jura bernois\, au coeur de la région Grand Chasseral\, et à la porte des Franches Montagnes. Dans une ambiance chaleureuse et confortable\, outre ses deux très belles salles de cours\, elle offre un hébergement de grand confort à une vingtaine de personnes. \nhttps://maison1902.ch/  \n  \nHoraire\nJeudi 8 mai à 16h30 au dimanche 11 mai 2025 à 16h00. Stage en résidentiel. \n  \nHébergement\n			\n			\n				\n				\n				\n				\n			\n				\n				\n				\n				\n				\n				\n				\n				\n				\n				\n				\n			\n			\n				\n				\n				\n				\n				\n				\n				\n				\n				\n				\n			\n			\n				\n				\n				\n				\n				\n				\n				\n				\n				\n				\n			\n			\n				\n				\n				\n				\n			\n				\n				\n				\n				\n				\n				\n				\n				\n				\n				\n				Maison 1902 – Rue Virgile Rossel 16 –  CH-2720 Tramelan\, SuisseEmail : info@maison1902.chTél. : +41 (0)79 777 33 48 (Bernard) ou +41 (0)79 365 44 43 (Béatrice)Site internet :https://maison1902.ch. \n  \nPrix du stage \nCHF 690.- pension complète et hébergement compris. \n  \n\n\nInscriptions\n\n\nDirectement auprès d’Aurore Müller\, Au Coeur du Tantra \nhttps://aucoeurdutantra.ch/project/lapuissancefemininejanvier2024/ \n  
URL:https://ds-seminaires.com/event/la-puissance-feminine-cercle-de-femmes-bienne-neuchatel-www-ds-seminaires-com/
LOCATION:Maison 1902\, rue Virgile Rossel 16\, Tramelan\, 2720\, Suisse
ATTACH;FMTTYPE=image/png:https://ds-seminaires.com/wp-content/uploads/2025/01/Tantra-femmes-A.-Muller.png
END:VEVENT
BEGIN:VEVENT
DTSTART;TZID=Europe/Zurich:20260531T090000
DTEND;TZID=Europe/Zurich:20260531T170000
DTSTAMP:20260421T140451
CREATED:20250220T160004Z
LAST-MODIFIED:20260303T140447Z
UID:32187-1780218000-1780246800@ds-seminaires.com
SUMMARY:Journée Trésors du jardin
DESCRIPTION:Journée Trésors du jardin\n  \nDimanche 31 mai 2026 de 9h à 17h \nEntrée libre \n  \nMaison 1902  – CH-2720 Tramelan\n  \n			\n				\n				\n				\n				\n				\n			\n				\n				\n				\n				\n				\nMettre en valeur les trésors du jardin\nUn simple jardin familial regorge de trésors tant pour leurs propriétaires que pour l’ensemble de l’environnement. Qu’il s’agisse des fleurs\, plantes\, légumes\, insectes\, oiseaux\, verres de terre\, arbustes et arbres fruitiers ou décoratifs\, tous ont un rôle précis. \nC’est un plaisir simple et profond de cultiver et manger ses propres légumes. Où encore de s’émerveiller de la beauté des fleurs qu’on a plantées et de déguster les petits fruits de saison. Au-delà de cet aspect des choses\, une meilleure connaissance de ce qu’il suffit de planter est très utile. Ce sont des actes simples et précieux pour les oiseaux\, insectes ou encore hérissons de nos régions.  \n  \nDes professionnels ou amateurs avertis passionnés et compétents\nC’est cette idée qui nous a poussés à organiser tout un dimanche consacré aux trésors du jardin. Nous avons choisi d’en faire une journée tout public et familiale dans une ambiance à la fois professionnelle\, joviale et gourmande.  Ainsi\, des spécialistes seront présents sur leurs stands. Ils vont vous présenter leurs produits\, donner des conseils avisés\, les vendre aussi. Pépiniéristes\, fleuristes\, constructeurs de nid d’oiseaux\, apiculteurs\, distillatrice\, cueilleurs de plantes sauvages et comestibles seront présents pour proposer leurs produits. Ils sont prêts à vous accueillir et vous faire profiter de leur savoir. \nEchanges\, découvertes\, goumandises\nEchanger\, communiquer\, transmettre et partager son savoir\, cela ne saurait se faire sans qu’il y ait de quoi se sustenter dans la bonne humeur. Tout a été prévu pour régaler petits et grands simplement\, sainement et à des prix abordables. En outre\, en cas de pluie\, exposants et visiteurs sont accueillis sous des tentes.  \nEn outre\, la manifestation est gratuite\, tant pour les exposants que les visiteurs. Contactez-nous si vous souhaitez participer à cette journée et présenter votre production ou votre artisanat en lien avec la mise en valeur des jardins. \n  \n  \n			\n				\n				\n				\n				\n				\n			\n				\n				\n				\n				\n				La liste des participants se construit…. Nous vous donnons des nouvelles bientôt\n  \n			\n			\n				\n				\n				\n				\n			\n				\n				\n				\n				\n				\n				\n			\n				\n				\n				\n				\n				\n				\n				\n				\n				\n				*     *     *\nA propos de Béatrice et Bernard\n			\n				\n				\n				\n				\n				\n			\n			\n				\n				\n				\n				\n				\n			\n				\n				\n				\n				\n			\n				\n				\n				\n				\n				\n				\n				\n				\n				\n				\n				  \nBéatrice et Bernard Stilli-Devaux ont créé DS Séminaires en vue de proposer des stages\, cours et événements divers qui fassent sens pour les gens et la transmission de savoir\, qui soient créateurs de liens précieux et de mieux-être. Ils sont les gardiens des lieux à Maison 1902 (www.maison1902.ch)\, belle bâtisse tout confort\, chargée d’histoire et rénovée avec amour\, dans laquelle ils accueillent les activités qu’ils proposent et qu’ils ouvrent à la location de tout organisateur d’événements.  \n  \n			\n			\n				\n				\n				\n				\n			\n				\n				\n				\n				\n				\n				\n			\n				\n				\n				\n				\n			\n				\n				\n				\n				\n				\n				\n			\n				\n				\n				\n				\n				\n				\n				\n				\n				\n				A propos du lieu\n			\n				\n				\n				\n				\n				\n			\n				\n				\n				\n				\n				\n			\n				\n				\n				\n				\n				\n			\n			\n				\n				\n				\n				\n				\n			\n				\n				\n				\n				\n			\n				\n				\n				\n				\n				\n				\n				\n				\n				\n				\n				La journée se déroule dans les jardins de Maison 1902. Cette magnifique demeure est pleine de charme et d’histoire. Elle est située à Tramelan\, en Suisse\, dans le Jura bernois\, au coeur de la région Grand Chasseral\, et à la porte des Franches Montagnes. Dans une ambiance chaleureuse et confortable\, outre ses deux très belles salles de cours\, elle offre un hébergement de grand confort à une vingtaine de personnes. \nhttps://maison1902.ch/  \n  \n  \nAperçu des chambres\n			\n			\n				\n				\n				\n				\n			\n				\n				\n				\n				\n				\n				\n				\n				\n				\n				\n				\n			\n			\n				\n				\n				\n				\n				\n				\n				\n				\n				\n				\n			\n			\n				\n				\n				\n				\n				\n				\n				\n				\n				\n				\n			\n			\n				\n				\n				\n				\n			\n				\n				\n				\n				\n				\n				\n				\n				\n				\n				\n				Mison 1902 – Rue Virgile Rossel 16 –  CH-2720 Tramelan\, SuisseEmail : info@maison1902.chTél. : +41 (0)79 777 33 48 (Bernard) ou +41 (0)79 365 44 43 (Béatrice)Site internet :https://maison1902.ch. \n  \nPrix \nLes stands sont gratuits pour les exposants et pour les visiteurs. \n  \n\n\nInscriptions\n\n\ninfo@ds-seminaires.com  \nTél. Bernard Stilli : 079 777 33 48 
URL:https://ds-seminaires.com/event/journee-tresors-du-jardin-tramelan-bienne-neuchatel-la-chaux-de-fonds-www-ds-seminaires-com/
LOCATION:Maison 1902\, rue Virgile Rossel 16\, Tramelan\, 2720\, Suisse
ATTACH;FMTTYPE=image/png:https://ds-seminaires.com/wp-content/uploads/2025/02/Affiche-Tresors-du-jardin-31.5.2026-carree-.png
END:VEVENT
END:VCALENDAR