BEGIN:VCALENDAR
VERSION:2.0
PRODID:-//DS Séminaires - ECPv6.15.17//NONSGML v1.0//EN
CALSCALE:GREGORIAN
METHOD:PUBLISH
X-ORIGINAL-URL:https://ds-seminaires.com
X-WR-CALDESC:Évènements pour DS Séminaires
REFRESH-INTERVAL;VALUE=DURATION:PT1H
X-Robots-Tag:noindex
X-PUBLISHED-TTL:PT1H
BEGIN:VTIMEZONE
TZID:Europe/Zurich
BEGIN:DAYLIGHT
TZOFFSETFROM:+0100
TZOFFSETTO:+0200
TZNAME:CEST
DTSTART:20250330T010000
END:DAYLIGHT
BEGIN:STANDARD
TZOFFSETFROM:+0200
TZOFFSETTO:+0100
TZNAME:CET
DTSTART:20251026T010000
END:STANDARD
BEGIN:DAYLIGHT
TZOFFSETFROM:+0100
TZOFFSETTO:+0200
TZNAME:CEST
DTSTART:20260329T010000
END:DAYLIGHT
BEGIN:STANDARD
TZOFFSETFROM:+0200
TZOFFSETTO:+0100
TZNAME:CET
DTSTART:20261025T010000
END:STANDARD
BEGIN:DAYLIGHT
TZOFFSETFROM:+0100
TZOFFSETTO:+0200
TZNAME:CEST
DTSTART:20270328T010000
END:DAYLIGHT
BEGIN:STANDARD
TZOFFSETFROM:+0200
TZOFFSETTO:+0100
TZNAME:CET
DTSTART:20271031T010000
END:STANDARD
END:VTIMEZONE
BEGIN:VEVENT
DTSTART;TZID=Europe/Zurich:20260509T100000
DTEND;TZID=Europe/Zurich:20260509T170000
DTSTAMP:20260421T123012
CREATED:20260224T172435Z
LAST-MODIFIED:20260224T172441Z
UID:32739-1778320800-1778346000@ds-seminaires.com
SUMMARY:Cercle Féminin sacré
DESCRIPTION:Cercle\nFéminin sacré \n\n  \nSamedi 9 mai 2026\, 10h – 17h\n \n*   *   * \nManuela Laubscher et Odile Meury \n			\n			\n				\n				\n				\n				\n			\n				\n				\n				\n				\n				\n				\n			\n				\n				\n				\n				\n				\n				\n				\n				\n				\n				\nFéminin sacré\, en chemin vers l’intuition\n\nLe Féminin sacré est une force originelle\, une énergie qui traverse le monde visible et invisible. Il ne se limite pas à la femme ou à la féminité biologique : il incarne l’intuition\, la création\, la sensibilité et la puissance du cœur. \nRedécouvrir le Féminin sacré\, c’est renouer avec une sagesse oubliée et apprendre à écouter votre voix intérieure plutôt que votre seule raison. Sous la conduite de Manuela et d’Odile\, entourées d’autres femmes en chemin\, vous allez contacter la douceur autant que la force\, la coopération autant que la conquête. \nL’importance du rythme naturel\nDans un monde depuis longtemps dominé par un modèle masculin centré sur le contrôle et la performance\, le Féminin sacré rappelle l’importance du rythme naturel. Il renvoie au soin\, au lien et à l’accueil. Il invite à réconcilier l’être humain avec la Terre\, à retrouver l’équilibre entre donner et recevoir. \nLes gestes du quotidien prennent une autre dimension : l’attention portée à soi\, à autrui\, à la beauté du monde deviennent une attitude naturelle.  Celle qui inspire la créativité\, la guérison et la compassion. Honorer le Féminin sacré\, c’est aussi restaurer en soi le respect du corps\, du cycle\, de la nature\, sans honte ni domination. C’est un chemin intérieur vers l’unité : car le Féminin et le Masculin sacré ne s’opposent pas\, ils se complètent. \nVivre\, c’est être en relation\n Le Féminin sacré nous apprend que toute vie est relation. Manuela et Odile\, en le réveillant en vous\, vous invitent à ressentir le dialogue entre les parts d’ombre et de lumière qui nous habitent. Et à retrouver le sens du sacré dans nos existences quotidiennes. \n  \n\n			\n				\n				\n				\n				\n				\nPrix et inscription\n  \nPlaces limitées\nCHF 175.-\, à payer cash sur place. \nManuela : 079 403 03 06\nOdile : 079 356 99 25  \n\n  \n\n			\n			\n				\n				\n				\n				\n				\n			\n				\n				\n				\n				\n			\n				\n				\n				\n				\n				\n				\n			\n				\n				\n				\n				\n				\n				\n				\n				\n				\n				A propos de Manuela Laubscher\n			\n				\n				\n				\n				\n				\n			\n				\n				\n				\n				\n				Manuela Laubscher est certifiée en kinésiologie. Après avoir été longtemps active dans le domaine de la santé et des soins\, elle a choisi cette voie plus en accord avec son approche globale de l’être humain. \nElle enseigne le yoga depuis de nombreuses années. Sa belle vitalité et son enthousiasme sont communicatifs. Personnalité rayonnante et chaleureuse\, elle transmet son savoir avec authenticité\, créativité et générosité. \nMieux connaître Manuela Laubscher : \nhttps://kinemanu.ch/ \n                                          \n \n			\n				\n				\n				\n				\n				A propos d’Odile Meury\n			\n				\n				\n				\n				\n				\n			\n				\n				\n				\n				\n				Tout comme Manuela\, Odile Meury est  kinésiologue certifiée. Elle a en outre complété sa formation par de nombreux cours. Ainsi\, elle s’est également investie dans les domaines de l’hypnose\, des soins énergétiques\, des massages et de l’aromathérapie notamment. \nMieux connaître Odile Meury : \nhttps://lesmeury.ch/ \n  \n             \n			\n			\n				\n				\n				\n				\n				\n			\n				\n				\n				\n				\n			\n				\n				\n				\n				\n				\n				\n				\n				\n				\n				\n				A propos du Lieu\n			\n			\n				\n				\n				\n				\n			\n				\n				\n				\n				\n				\n				\n			\n				\n				\n				\n				\n				\n				\n				\n				\n				\n				\n			\n				\n				\n				\n				\n				\n			\n				\n				\n				\n				\n				\n			\n			\n				\n				\n				\n				\n				\n			\n				\n				\n				\n				\n			\n				\n				\n				\n				\n				\n				\n				\n				\n				\n				\n				Le cours est donné à Maison 1902. Cette magnifique demeure est pleine de charme et d’histoire. Elle est située à Tramelan\, en Suisse\, dans le Jura bernois\, au coeur de la région Grand Chasseral\, et à la porte des Franches Montagnes. Dans une ambiance chaleureuse et confortable\, outre ses deux très belles salles de cours\, elle offre un hébergement de grand confort à une vingtaine de personnes. \nhttps://maison1902.ch/  \n  \nAperçu des chambres\n			\n			\n				\n				\n				\n				\n			\n				\n				\n				\n				\n				\n				\n				\n				\n				\n				\n				\n			\n			\n				\n				\n				\n				\n				\n				\n				\n				\n				\n				\n			\n			\n				\n				\n				\n				\n				\n				\n				\n				\n				\n				\n			\n			\n				\n				\n				\n				\n			\n				\n				\n				\n				\n				\n				\n				\n				\n				\n				\n				Maison 1902 – Rue Virgile Rossel 16 –  CH-2720 Tramelan\, Suisse\nEmail : info@maison1902.ch\nTél. : +41 (0)79 777 33 48 (Bernard) ou +41 (0)79 365 44 43 (Béatrice)\nSite internet :https://maison1902.ch \n 
URL:https://ds-seminaires.com/event/cercle-feminin-sacre-tramelan-neuchatel-la-chaux-de-fonds-bienne-www-ds-seminaires-com/
LOCATION:Maison 1902\, rue Virgile Rossel 16\, Tramelan\, 2720\, Suisse
ATTACH;FMTTYPE=image/png:https://ds-seminaires.com/wp-content/uploads/2026/02/Manuela-et-Odile-2926-sans-logo.png
END:VEVENT
END:VCALENDAR